BEGIN:VCALENDAR
VERSION:2.0
PRODID:-//eventon.com NONSGML v1.0//EN
CALSCALE:GREGORIAN
METHOD:PUBLISH
BEGIN:VEVENT
UID:69e50fa0505b1
DTSTAMP:20260419T172344Z
DTSTART:20260104T070000Z
DTEND:20260107T110000Z
LOCATION:Witsieshoek Mountain Lodge
SUMMARY:Madonna and Her Worshippers 4 Day Hike
DESCRIPTION:Join us on this incredible 4 day hike that takes place over 2 o
 f Drakensbergs most scenic valleys including the Amphitheatre and Mnweni Re
 gions. We spend 3 nights camping on top of the escarpment and each campsite
  is specifically chosen to give us the best views possible. We spend 1[..]\
 nhttps://www.souladventures.co.za/events/madonna-and-her-worshippers-4-day-
 hike/
URL:https://www.souladventures.co.za/events/madonna-and-her-worshippers-4-day-hike/
END:VEVENT
END:VCALENDAR