BEGIN:VCALENDAR
VERSION:2.0
PRODID:-//eventon.com NONSGML v1.0//EN
CALSCALE:GREGORIAN
METHOD:PUBLISH
BEGIN:VEVENT
UID:69e7b0c43a051
DTSTAMP:20260421T171548Z
DTSTART:20251003T060000Z
DTEND:20251005T150000Z
LOCATION:Mnweni Cultural and Hiking Centre
SUMMARY:Mnweni Circuit Hike
DESCRIPTION:Mnweni is regarded as one of the most scenic\,  if not most sce
 nic\,  region in the Drakensberg Mountains. Due to its remoteness it does n
 ot receive as much traffic as hikes like Tugela Falls and Cathedral Peak. W
 hat we’re saying is that we probably won’t cross paths with another hik
 ing[..]\nhttps://www.souladventures.co.za/events/mnweni-circuit-hike/
URL:https://www.souladventures.co.za/events/mnweni-circuit-hike/
END:VEVENT
END:VCALENDAR