BEGIN:VCALENDAR
VERSION:2.0
PRODID:-//eventon.com NONSGML v1.0//EN
CALSCALE:GREGORIAN
METHOD:PUBLISH
BEGIN:VEVENT
UID:69e4f78672a10
DTSTAMP:20260419T154054Z
DTSTART:20260605T110000Z
DTEND:20260607T080000Z
LOCATION:
SUMMARY:Cathedral Peak 3 Day Hike
DESCRIPTION:Cathedral Peak&nbsp;is the highest\,  non-technical\,  free-sta
 nding mountain in South Africa and is a popular choice among hikes. We do t
 his hike a bit differently to most companies. We spend 3 days tackling this
  peak unlike the usual two days. This makes the hike a lot easier and more 
 enjoyable. We[..]\nhttps://www.souladventures.co.za/events/cathedral-peak-3
 -day-hike/
URL:https://www.souladventures.co.za/events/cathedral-peak-3-day-hike/
END:VEVENT
END:VCALENDAR